BEGIN:VCALENDAR
VERSION:2.0
PRODID:-//Colegio de abogados - ECPv6.8.2.1//NONSGML v1.0//EN
CALSCALE:GREGORIAN
METHOD:PUBLISH
X-WR-CALNAME:Colegio de abogados
X-ORIGINAL-URL:https://cpasc.com.ar
X-WR-CALDESC:Eventos para Colegio de abogados
REFRESH-INTERVAL;VALUE=DURATION:PT1H
X-Robots-Tag:noindex
X-PUBLISHED-TTL:PT1H
BEGIN:VTIMEZONE
TZID:America/Argentina/Buenos_Aires
BEGIN:STANDARD
TZOFFSETFROM:-0300
TZOFFSETTO:-0300
TZNAME:-03
DTSTART:20260101T000000
END:STANDARD
END:VTIMEZONE
BEGIN:VEVENT
DTSTART;TZID=America/Argentina/Buenos_Aires:20260302T113000
DTEND;TZID=America/Argentina/Buenos_Aires:20260302T123000
DTSTAMP:20260424T073348
CREATED:20260301T210317Z
LAST-MODIFIED:20260301T210411Z
UID:10000044-1772451000-1772454600@cpasc.com.ar
SUMMARY:Capacitación Virtual - Incorporación de Prueba Digital
DESCRIPTION:Se invita a los Colegiados:\nEl día lunes 02/03/2026 se realizará a las 11\,30 hs una capacitación virtual sobre la “Incorporación de Prueba Digital en la Nube”\, la misma estará a cargo de Paola Volpatto. \nÚnase a la reunión de Zoom\nhttps://us04web.zoom.us/j/79100020481?pwd=lorcwj1zjmDdF64nqSQZWzrgNt434f.1 \nID de reunión: 791 0002 0481\nCódigo de acceso: 3Bdjzt
URL:https://cpasc.com.ar/evento/capacitacion-virtual-incorporacion-de-prueba-digital/
CATEGORIES:Capacitación
ATTACH;FMTTYPE=image/jpeg:https://cpasc.com.ar/wp-content/uploads/2026/03/unnamed.jpg
END:VEVENT
END:VCALENDAR