BEGIN:VCALENDAR
VERSION:2.0
PRODID:-//Colegio de abogados - ECPv6.8.2.1//NONSGML v1.0//EN
CALSCALE:GREGORIAN
METHOD:PUBLISH
X-ORIGINAL-URL:https://cpasc.com.ar
X-WR-CALDESC:Eventos para Colegio de abogados
REFRESH-INTERVAL;VALUE=DURATION:PT1H
X-Robots-Tag:noindex
X-PUBLISHED-TTL:PT1H
BEGIN:VTIMEZONE
TZID:America/Argentina/Buenos_Aires
BEGIN:STANDARD
TZOFFSETFROM:-0300
TZOFFSETTO:-0300
TZNAME:-03
DTSTART:20230101T000000
END:STANDARD
END:VTIMEZONE
BEGIN:VEVENT
DTSTART;TZID=America/Argentina/Buenos_Aires:20241126T120000
DTEND;TZID=America/Argentina/Buenos_Aires:20241126T120000
DTSTAMP:20260421T182808
CREATED:20241125T203631Z
LAST-MODIFIED:20241126T003609Z
UID:10000038-1732622400-1732622400@cpasc.com.ar
SUMMARY:Invitamos a Jornadas de Actualizacion en Dcho. de Familia -
DESCRIPTION:Dirección de la Mujer de la Municipalidad de Goya a las “Primeras Jornadas de Actualización de Derecho de Familia”\, en el contexto semana de la “No violencia contra la mujer”\, 25 N\, a realizarse en los días 26 y 27 de noviembre\, del presente año\, a partir de las 18:00 hs. y 09:00 hs.\, respectivamente\, en el Salón Rojo de la Sede Goya de la Universidad de la Cuenca del Plata (U.C.P.). Destinada a publico en general y en particular a docentes\, estudiantes de abogacía y abogados.
URL:https://cpasc.com.ar/evento/invitamos-a-jornadas-de-actualizacion-en-dcho-de-familia/
CATEGORIES:Jornada
ATTACH;FMTTYPE=image/jpeg:https://cpasc.com.ar/wp-content/uploads/2024/11/6744701f78609.jpg
END:VEVENT
BEGIN:VEVENT
DTSTART;TZID=America/Argentina/Buenos_Aires:20241108T120000
DTEND;TZID=America/Argentina/Buenos_Aires:20241108T120000
DTSTAMP:20260421T182808
CREATED:20241106T193212Z
LAST-MODIFIED:20241107T044113Z
UID:10000036-1731067200-1731067200@cpasc.com.ar
SUMMARY:Taller "AMPAROS DE LA SALUD"
DESCRIPTION:El Colegio de Abogados de Curuzú Cuatiá invita al Taller “Amparos de la Salud” a cargo del Dr. Eduardo Martín Fracalossi que se realizará el día viernes 08/11/2024 a las 18 hs. en la sede del Colegio de Abogados\, sito en calle Berón de Astrada N° 910 de esa localidad. \n\n\nEl evento tiene modalidad presencial y virtual (se transmitirá en vivo a traves de Youtube). Tiene acceso libre y sin costo. Se entregarán certificados virtuales gratuitos (con inscripción previa) \nInscripciones previas en el link: https://bit.ly/4eTm8q0 \nTransmisión en Vivo: Youtube en el link bit.ly/3Aon1YB
URL:https://cpasc.com.ar/evento/taller-amparos-de-la-salud/
LOCATION:Colegio Abogados Curuzú Cuatiá\, Berón de Astrada N° 910\, Curuzú Cuatiá\, Corrientes\, Argentina
CATEGORIES:Taller
ATTACH;FMTTYPE=image/jpeg:https://cpasc.com.ar/wp-content/uploads/2024/11/672b526aabe36.jpg
END:VEVENT
BEGIN:VEVENT
DTSTART;TZID=America/Argentina/Buenos_Aires:20241108T120000
DTEND;TZID=America/Argentina/Buenos_Aires:20241108T120000
DTSTAMP:20260421T182808
CREATED:20241106T191619Z
LAST-MODIFIED:20241107T044356Z
UID:10000037-1731067200-1731067200@cpasc.com.ar
SUMMARY:Curso de Actualización Ley Bases N° 27.742 - Su Decreto Reglamentario N° 847/24
DESCRIPTION:Invitamos a inscripción al “Curso de Actualización Ley Bases N° 27.742 – Su Decreto Reglamentario N° 847/24”. que se reallizará el día viernes 08/11/2024 a las 18 hs en la Sala de Debate del Tribunal de Juicio de la ciudad de Goya\, sito en calle Ejército Argentino N° 550. \nEl evento tiene como disertante al Dr. CARLOS FERNANDO PEÑA y es organizado por el Colegio de Abogados de la 2da. Circ. Jud. de la Pcia. de Ctes. \nSe entregarán certificados. La actividad es arancelada y el costo de la inscripción es $ 10.000\, y para los nóveles matriculados (2023 y 2024) $ 5.000. \nINSCRIPCIONES: al whatsapp del colegio 3777-500482
URL:https://cpasc.com.ar/evento/curso-de-actualizacion-ley-bases-n-27-742-su-decreto-reglamentario-n-847-24/
LOCATION:Sala del Tribunal de Juicio\, Ejercito Argentino 550\, Goya\, Corrientes\, 3450\, Argentina
CATEGORIES:Curso
ATTACH;FMTTYPE=image/jpeg:https://cpasc.com.ar/wp-content/uploads/2024/11/672155cf40b93.jpeg
ORGANIZER;CN="Colegio de Abogados de la 2da. Circunscripci%C3%B3n Judicial":MAILTO:contacto@cpasc.com.ar
END:VEVENT
BEGIN:VEVENT
DTSTART;TZID=America/Argentina/Buenos_Aires:20241023T110000
DTEND;TZID=America/Argentina/Buenos_Aires:20241023T110000
DTSTAMP:20260421T182808
CREATED:20241022T191550Z
LAST-MODIFIED:20241022T191550Z
UID:10000035-1729681200-1729681200@cpasc.com.ar
SUMMARY:Jornadas Preparatorias del Congreso Nacional de Dcho. Procesal
DESCRIPTION:Invitamos a participar de las Jornadas\, que se realizará en el día de mañana 23/10/2024 a las 17 hs. de manera virtual.
URL:https://cpasc.com.ar/evento/jornadas-preparatorias-del-congreso-nacional-de-dcho-procesal/
CATEGORIES:Jornada
ATTACH;FMTTYPE=image/jpeg:https://cpasc.com.ar/wp-content/uploads/2024/10/67178acd67253.jpeg
END:VEVENT
BEGIN:VEVENT
DTSTART;TZID=America/Argentina/Buenos_Aires:20241010T020000
DTEND;TZID=America/Argentina/Buenos_Aires:20241010T110000
DTSTAMP:20260421T182808
CREATED:20241001T180543Z
LAST-MODIFIED:20241004T190335Z
UID:10000034-1728525600-1728558000@cpasc.com.ar
SUMMARY:Jornadas de Actualización  "Régimen de Gestión eléctrica y circuito de comunicación para la implementación del Bus Federal"
DESCRIPTION:Las jornadas se llevarán a cabo los días 03/10 y 10/10 a las 18 hs  y el día 07/11/2024 a las 19 hs. con modalidad presencial y virtual.\nEl evento es organizado por el Colegio Público de Abogados de la Primera Circunscripción Judicial.
URL:https://cpasc.com.ar/evento/jornadas-de-actualizacion-regimen-de-gestion-electrica-y-circuito-de-comunicacion-para-la-implementacion-del-bus-federal/
CATEGORIES:Capacitación
ATTACH;FMTTYPE=image/jpeg:https://cpasc.com.ar/wp-content/uploads/2024/10/66fb27f114db6.jpeg
END:VEVENT
BEGIN:VEVENT
DTSTART;TZID=America/Argentina/Buenos_Aires:20240926T110000
DTEND;TZID=America/Argentina/Buenos_Aires:20240926T110000
DTSTAMP:20260421T182808
CREATED:20240924T042447Z
LAST-MODIFIED:20240924T042447Z
UID:10000033-1727348400-1727348400@cpasc.com.ar
SUMMARY:INVITAMOS A  Capacitación ALERTA SOFÍA ARGENTINA
DESCRIPTION:El evento se realizará el día Jueves 26/09/2024 a las 17\,00hs. en la Salón de la Iglesia La Rotonda de Goya\, sito en Av. Caá Guazú esquina Uruguay. \nLa capacitación Alerta Sofia Argentina-Protocolo de Búsqueda de Personas será dictada por Fundación Alameda (ONG que lucha contra la trata de personas\, el trabajo esclavo y la explotacion). \nObjetivo: explicar los detalles\, acciones y herramientas fundamentales para actuar ante la desaparición de niños\, niñas y adolescentes. \nLa misma es organizada por la Fundación Alameda y no tiene costo. \nPara inscribirse y confirmar presencia comunicarse al nro. celular 3777-399496 .
URL:https://cpasc.com.ar/evento/invitamos-a-capacitacion-alerta-sofia-argentina/
CATEGORIES:Capacitación
ATTACH;FMTTYPE=image/jpeg:https://cpasc.com.ar/wp-content/uploads/2024/09/66f1d719de2b8.jpeg
END:VEVENT
BEGIN:VEVENT
DTSTART;TZID=America/Argentina/Buenos_Aires:20240924T020000
DTEND;TZID=America/Argentina/Buenos_Aires:20240924T110000
DTSTAMP:20260421T182808
CREATED:20240924T042144Z
LAST-MODIFIED:20240924T042144Z
UID:10000032-1727143200-1727175600@cpasc.com.ar
SUMMARY:𝗗𝗶𝗽𝗹𝗼𝗺𝗮𝘁𝘂𝗿𝗮 𝗨𝗻𝗶𝘃𝗲𝗿𝘀𝗶𝘁𝗮𝗿𝗶𝗮 𝗲𝗻 𝗣𝗿𝗮́𝗰𝘁𝗶𝗰𝗮 𝗣𝗿𝗼𝗳𝗲𝘀𝗶𝗼𝗻𝗮𝗹 𝘆 𝗝𝘂𝗱𝗶𝗰𝗶𝗮𝗹
DESCRIPTION:COHORTE 2024 \n𝑪𝒆𝒓𝒕𝒊𝒇𝒊𝒄𝒂𝒅𝒐 𝒑𝒐𝒓 𝒍𝒂 𝑭𝒂𝒄𝒖𝒍𝒕𝒂𝒅 𝒅𝒆 𝑫𝒆𝒓𝒆𝒄𝒉𝒐 𝒚 𝑪𝒊𝒆𝒏𝒄𝒊𝒂𝒔 𝑺𝒐𝒄𝒊𝒂𝒍𝒆𝒔 𝒚 𝑷𝒐𝒍𝒊́𝒕𝒊𝒄𝒂𝒔 𝒅𝒆 𝒍𝒂 𝑼𝑵𝑵𝑬 \nResolución 531/2024 C.D. \n𝗜𝗻𝗶𝗰𝗶𝗮 𝟮𝟰 𝗱𝗲 𝘀𝗲𝗽𝘁𝗶𝗲𝗺𝗯𝗿𝗲 𝗱𝗲 𝟮𝟬𝟮𝟰 \n📙 𝗜𝗡𝗖𝗟𝗨𝗬𝗘 𝗟𝗜𝗕𝗥𝗢 𝗗𝗜𝗚𝗜𝗧𝗔𝗟 𝗕𝗢𝗡𝗜𝗙𝗜𝗖𝗔𝗗𝗢 ¿𝗖𝗢́𝗠𝗢 𝗣𝗥𝗢𝗬𝗘𝗖𝗧𝗔𝗥 𝗨𝗡𝗔 𝗗𝗘𝗠𝗔𝗡𝗗𝗔? | Autor; Marcelo S. Midon \n•⁠ ⁠10 módulos | Virtual tutorada. Cursado sincrónico.\n•⁠ ⁠Las clases se desarrollarán los días martes y jueves; de 19 a 21 hs. según cronograma de cursado.\n•⁠ ⁠Ver cronograma: https://bit.ly/474dRg2 \n💳 Actividad arancelada. Valor: $95.976 \n❗𝟯𝟬% 𝗱𝗲 𝗱𝗲𝘀𝗰𝘂𝗲𝗻𝘁𝗼 𝗽𝗮𝗿𝗮 𝙞𝙣𝙩𝙚𝙜𝙧𝙖𝙣𝙩𝙚𝙨 𝙙𝙚𝙡 𝘾𝙤𝙡𝙚𝙜𝙞𝙤 𝙙𝙚 𝘼𝙗𝙤𝙜𝙖𝙙𝙤𝙨 𝙙𝙚 𝙡𝙖 𝙄𝙄 𝘾𝙞𝙧𝙘𝙪𝙣𝙨𝙘𝙧𝙞𝙥𝙘𝙞𝙤́𝙣 𝙅𝙪𝙙𝙞𝙘𝙞𝙖𝙡 𝙙𝙚 𝘾𝙤𝙧𝙧𝙞𝙚𝙣𝙩𝙚𝙨\nCupón: DUPPYJ24-CAIICCTES \n► Medios de pagos: Contado efectivo – Transferencia o depósito bancario – Tarjeta de débito ó crédito \n⚠️ Promociones vigentes: 𝟯 𝘆 𝟲 𝗰𝘂𝗼𝘁𝗮𝘀 𝘀𝗶𝗻 𝗶𝗻𝘁𝗲𝗿𝗲́𝘀 𝗰𝗼𝗻 𝘁𝗮𝗿𝗷𝗲𝘁𝗮 𝗱𝗲 𝗰𝗿𝗲́𝗱𝗶𝘁𝗼 (seleccionando la pasarela de pago Mercadopago). \n🔗 𝗜𝗻𝘀𝗰𝗿𝗶𝗽𝗰𝗶𝗼́𝗻: https://fundacionformartecursos.com.ar/product/diplomatura-en-practica-profesional-y-judicial
URL:https://cpasc.com.ar/evento/%f0%9d%97%97%f0%9d%97%b6%f0%9d%97%bd%f0%9d%97%b9%f0%9d%97%bc%f0%9d%97%ba%f0%9d%97%ae%f0%9d%98%81%f0%9d%98%82%f0%9d%97%bf%f0%9d%97%ae-%f0%9d%97%a8%f0%9d%97%bb%f0%9d%97%b6%f0%9d%98%83%f0%9d%97%b2/
CATEGORIES:Diplomatura
ATTACH;FMTTYPE=image/jpeg:https://cpasc.com.ar/wp-content/uploads/2024/09/66e44622db01d.jpeg
END:VEVENT
BEGIN:VEVENT
DTSTART;TZID=America/Argentina/Buenos_Aires:20240906T000000
DTEND;TZID=America/Argentina/Buenos_Aires:20240906T000000
DTSTAMP:20260421T182808
CREATED:20240822T010346Z
LAST-MODIFIED:20240822T010732Z
UID:10000031-1725580800-1725580800@cpasc.com.ar
SUMMARY:Charla de Actualización en Derecho Laboral - Ley Bases N° 27742. Reforma Laboral. Multas Laborales que dividen a la Jurisprudencia Argentina
DESCRIPTION:Tendrá como disertante al Dr. Carlos Fernando Peña.\nLa charla es sin costo\, y para inscribirse debe comunicarse al whatsapp del Colegio de Abogados 3777-00482 enviando los siguientes datos:\n– Nombre y Apellido (completo)\n– N° DNI\n– Teléfono de Contacto\n– E-mail
URL:https://cpasc.com.ar/evento/charla-de-actualizacion-en-derecho-laboral-ley-bases-n-27742-reforma-laboral-multas-laborales-que-dividen-a-la-jurisprudencia-argentina/
LOCATION:Sala del Tribunal de Juicio\, Ejercito Argentino 550\, Goya\, Corrientes\, 3450\, Argentina
CATEGORIES:Charlas
END:VEVENT
BEGIN:VEVENT
DTSTART;TZID=America/Argentina/Buenos_Aires:20240827T090000
DTEND;TZID=America/Argentina/Buenos_Aires:20240827T110000
DTSTAMP:20260421T182808
CREATED:20240810T030949Z
LAST-MODIFIED:20240810T031158Z
UID:10000030-1724749200-1724756400@cpasc.com.ar
SUMMARY:"Introducción al Funcionamiento del Código Procesal Penal Federal"
DESCRIPTION:
URL:https://cpasc.com.ar/evento/introduccion-al-funcionamiento-del-codigo-procesal-penal-federal/2024-08-27/
END:VEVENT
BEGIN:VEVENT
DTSTART;TZID=America/Argentina/Buenos_Aires:20240821T120000
DTEND;TZID=America/Argentina/Buenos_Aires:20240828T120000
DTSTAMP:20260421T182808
CREATED:20240810T030543Z
LAST-MODIFIED:20240810T030652Z
UID:10000027-1724241600-1724846400@cpasc.com.ar
SUMMARY:"Inteligencia Artificial Generativa y Ejercicio Profesional de la Abogacía"
DESCRIPTION:
URL:https://cpasc.com.ar/evento/inteligencia-artificial-generativa-y-ejercicio-profesional-de-la-abogacia/
END:VEVENT
BEGIN:VEVENT
DTSTART;TZID=America/Argentina/Buenos_Aires:20240820T090000
DTEND;TZID=America/Argentina/Buenos_Aires:20240820T110000
DTSTAMP:20260421T182808
CREATED:20240810T030949Z
LAST-MODIFIED:20240810T031158Z
UID:10000029-1724144400-1724151600@cpasc.com.ar
SUMMARY:"Introducción al Funcionamiento del Código Procesal Penal Federal"
DESCRIPTION:
URL:https://cpasc.com.ar/evento/introduccion-al-funcionamiento-del-codigo-procesal-penal-federal/2024-08-20/
END:VEVENT
BEGIN:VEVENT
DTSTART;TZID=America/Argentina/Buenos_Aires:20240813T090000
DTEND;TZID=America/Argentina/Buenos_Aires:20240813T110000
DTSTAMP:20260421T182808
CREATED:20240810T030949Z
LAST-MODIFIED:20240810T031158Z
UID:10000028-1723539600-1723546800@cpasc.com.ar
SUMMARY:"Introducción al Funcionamiento del Código Procesal Penal Federal"
DESCRIPTION:
URL:https://cpasc.com.ar/evento/introduccion-al-funcionamiento-del-codigo-procesal-penal-federal/2024-08-13/
END:VEVENT
BEGIN:VEVENT
DTSTART;TZID=America/Argentina/Buenos_Aires:20240517T120000
DTEND;TZID=America/Argentina/Buenos_Aires:20240517T140000
DTSTAMP:20260421T182808
CREATED:20240514T024615Z
LAST-MODIFIED:20240514T024615Z
UID:10000026-1715947200-1715954400@cpasc.com.ar
SUMMARY:Charla de Actualización en Derecho Laboral
DESCRIPTION:El evento se realizará el día Viernes 17/05/2024 a las 18\,00hs. en la Sala de Debate del Tribunal de Juicio de Goya\, sito en calle Ejército Argentino N° 550\, a las 18\,00 hs. y tendrá como disertante al Dr. Carlos Fernando Peña. \nLa charla es sin costo\, y para inscribirse debe comunicarse al whatsapp del Colegio de Abogados 3777-500482 enviando los siguientes datos: \n– Nombre y Apellido (completo)\n– N° DNI\n– Teléfono de Contacto\n– E-mail
URL:https://cpasc.com.ar/evento/charla-de-actualizacion-en-derecho-laboral/
LOCATION:Sala del Tribunal de Juicio\, Ejercito Argentino 550\, Goya\, Corrientes\, 3450\, Argentina
ATTACH;FMTTYPE=image/png:https://cpasc.com.ar/wp-content/uploads/2024/05/riesgo_de_trabajo.png
ORGANIZER;CN="Colegio de Abogados de la 2da. Circunscripci%C3%B3n Judicial":MAILTO:contacto@cpasc.com.ar
END:VEVENT
BEGIN:VEVENT
DTSTART;TZID=America/Argentina/Buenos_Aires:20240424T030000
DTEND;TZID=America/Argentina/Buenos_Aires:20240424T030000
DTSTAMP:20260421T182808
CREATED:20240410T015827Z
LAST-MODIFIED:20240410T015827Z
UID:10000025-1713927600-1713927600@cpasc.com.ar
SUMMARY:Diplomatura en Dcho. Procesal Laboral (UNNE)
DESCRIPTION:
URL:https://cpasc.com.ar/evento/diplomatura-en-dcho-procesal-laboral-unne/
CATEGORIES:Diplomatura
ATTACH;FMTTYPE=image/png:https://cpasc.com.ar/wp-content/uploads/2024/04/derecho_procesal_laboral.png
END:VEVENT
BEGIN:VEVENT
DTSTART;TZID=America/Argentina/Buenos_Aires:20240412T100000
DTEND;TZID=America/Argentina/Buenos_Aires:20240412T123000
DTSTAMP:20260421T182808
CREATED:20240410T014023Z
LAST-MODIFIED:20240411T025012Z
UID:10000024-1712916000-1712925000@cpasc.com.ar
SUMMARY:En Goya!! Conferencia sobre "Delitos contra la vida y cuestiones de Género"
DESCRIPTION:🟣 La conferencia es organizada por el Colegio de Magistrados y Funcionarios del Poder Judicial de la Provincia de Corrientes\, con el auspicio de la Facultad de Derecho de la UNNE y tendrá lugar la Ciudad Goya\, SALÓN DE EVENTOS DE JORGE BREST\, sito en calle 25 de Mayo N° 815 de Goya (Ctes.). \n🟣 La actividad en sí será gratuita. La certificación NO tendrá costo para los Asociados del Colegio de Magistrados\, mientras que\, para los demás asistentes\, tendrá un costo de $3.000. \n🟣Las inscripciones son completando el siguiente formulario: https://docs.google.com/forms/d/e/1FAIpQLSeHWk7eeBjgfT2629HBKH2YtScPTWLBAt96X9gByiY9lM5UTw/viewform \n🟣 Interesados en adquirir la certificación – que será online a través del correo que se registre al momento de la inscripción – deberán enviar el comprobante de pago al correo areacontablecolmag@gmail.com detallando el nombre\, apellido completo y aclarando a que capacitación corresponde. \n🟣 La cuenta para hacer el depósito es: Cta. Colegio de Magistrados Bco de Ctes. \nCta. N° 130934/1 –\nCBU 0940099310001309340010 –\nALIAS: LIMA.FICHA.ABUELA
URL:https://cpasc.com.ar/evento/en-goya-conferencia-sobre-delitos-contra-la-vida-y-cuestiones-de-genero/
LOCATION:25 de Mayo N° 815 de Goya (Ctes.)\, SALÓN DE EVENTOS DE JORGE BREST\, sito en calle 25 de Mayo N° 815\, Goya\, Corrientes\, 3450\, Argentina
CATEGORIES:Charlas
ATTACH;FMTTYPE=image/jpeg:https://cpasc.com.ar/wp-content/uploads/2024/04/cuestion_de_genero.jpg
ORGANIZER;CN="Colegio de Abogados de la 2da. Circunscripci%C3%B3n Judicial":MAILTO:contacto@cpasc.com.ar
GEO:-29.1426819;-59.2624585
X-APPLE-STRUCTURED-LOCATION;VALUE=URI;X-ADDRESS=25 de Mayo N° 815 de Goya (Ctes.) SALÓN DE EVENTOS DE JORGE BREST sito en calle 25 de Mayo N° 815 Goya Corrientes 3450 Argentina;X-APPLE-RADIUS=500;X-TITLE=SALÓN DE EVENTOS DE JORGE BREST\, sito en calle 25 de Mayo N° 815:geo:-59.2624585,-29.1426819
END:VEVENT
BEGIN:VEVENT
DTSTART;TZID=America/Argentina/Buenos_Aires:20240405T113000
DTEND;TZID=America/Argentina/Buenos_Aires:20240405T113000
DTSTAMP:20260421T182808
CREATED:20240326T185010Z
LAST-MODIFIED:20240326T185601Z
UID:10000022-1712316600-1712316600@cpasc.com.ar
SUMMARY:Taller de Práctica Profesional "COMO HACER UNA DEMANDA"
DESCRIPTION:Se llevará a cabo el día Viernes 05/04/2024 a las 17\,30 hs. (modalidad presencial) en la Sala de Debate del Tribunal de Juicio de Goya y tendrá como disertante al Dr. Marcelo Sebastián Midón.
URL:https://cpasc.com.ar/evento/taller-de-practica-profesional-como-hacer-una-demanda/
LOCATION:Sala del Tribunal de Juicio\, Ejercito Argentino 550\, Goya\, Corrientes\, 3450\, Argentina
CATEGORIES:Taller
ATTACH;FMTTYPE=image/jpeg:https://cpasc.com.ar/wp-content/uploads/2024/03/como_hacer-_una_demanda.jpg.jpg
ORGANIZER;CN="Colegio de Abogados de la 2da. Circunscripci%C3%B3n Judicial":MAILTO:contacto@cpasc.com.ar
END:VEVENT
BEGIN:VEVENT
DTSTART;TZID=America/Argentina/Buenos_Aires:20240404T120000
DTEND;TZID=America/Argentina/Buenos_Aires:20240404T140000
DTSTAMP:20260421T182808
CREATED:20240404T185526Z
LAST-MODIFIED:20240404T185558Z
UID:10000023-1712232000-1712239200@cpasc.com.ar
SUMMARY:Curso de Iniciación Profesional "La Prueba en el Litigio Civil"
DESCRIPTION:(actividad No arancelada) \nInicia mañana jueves 04/04/2024 de 18 a 20 hs.\, y tiene continuidad los días 11\, 18 y 25 de abril de 2024. El evento es organizado por F.A.C.A. (Federación Argentina de Colegios de Abogados) y la Editorial Rubinzal Culzoni. \nLa modalidad es a distancia. \n \n \nEL DIRECTORIO
URL:https://cpasc.com.ar/evento/curso-de-iniciacion-profesional-la-prueba-en-el-litigio-civil/
CATEGORIES:Capacitación
ATTACH;FMTTYPE=image/jpeg:https://cpasc.com.ar/wp-content/uploads/2024/04/660d7b51be1f1.jpeg
END:VEVENT
BEGIN:VEVENT
DTSTART;TZID=America/Argentina/Buenos_Aires:20240316T100000
DTEND;TZID=America/Argentina/Buenos_Aires:20240316T140000
DTSTAMP:20260421T182808
CREATED:20240308T190527Z
LAST-MODIFIED:20240308T191008Z
UID:10000021-1710583200-1710597600@cpasc.com.ar
SUMMARY:Jornada "JUICIO POR JURADOS"
DESCRIPTION:
URL:https://cpasc.com.ar/evento/jornada-juicio-por-jurados/
CATEGORIES:Jornada
ATTACH;FMTTYPE=image/png:https://cpasc.com.ar/wp-content/uploads/2024/03/juicio_por_jurado.png
END:VEVENT
BEGIN:VEVENT
DTSTART;TZID=America/Argentina/Buenos_Aires:20240315T020000
DTEND;TZID=America/Argentina/Buenos_Aires:20240316T110000
DTSTAMP:20260421T182808
CREATED:20231229T010759Z
LAST-MODIFIED:20231229T011828Z
UID:10000020-1710468000-1710586800@cpasc.com.ar
SUMMARY:VII Jornadas Chaqueñas de Flia\, Niñez y Adolescencia
DESCRIPTION:📍 Modalidad híbrida: Presencial en Resistencia\, Chaco. Virtual a través de la plataforma de Fundación Formarte. \n💳 Actividad arancelada.\n⚠25% Descuento asociados y miembros del COLEGIO PÚBLICO DE ABOGADOS DE LA II CIRCUNSCRIPCIÓN JUDICIAL DE LA PROV. DE CORRIENTES \nImporte general: : $29.990\n🔸Importe a pagar con descuento: $ 22.499 \n►¿Cómo inscribirse aplicando el descuento?\nPara inscribirse a la jornada utilizando el código de descuento\, debe seguir los siguientes pasos: \n1. Ingresar al siguiente link: https://bit.ly/3Rw4WfL \n2. Hacer clic en el botón COMPRAR \n3. Hacer clic en la sección AGREGAR CUPON DE DESCUENTO y aplicar cupón asignado para ver reflejado el descuento\nCUPON: FANYA_CPASCJCTES \n4. Completar sus datos y continuar con la compra haciendo clic en el botón COMPRAR \n🔍 Más información e inscripción: https://bit.ly/41qNu0W
URL:https://cpasc.com.ar/evento/vii-jornadas-chaquenas-de-flia-ninez-y-adolescencia/
CATEGORIES:Jornada
ATTACH;FMTTYPE=image/jpeg:https://cpasc.com.ar/wp-content/uploads/2023/12/fanya_chaco.jpeg
END:VEVENT
BEGIN:VEVENT
DTSTART;TZID=America/Argentina/Buenos_Aires:20231226T090000
DTEND;TZID=America/Argentina/Buenos_Aires:20231226T110000
DTSTAMP:20260421T182808
CREATED:20231223T035834Z
LAST-MODIFIED:20231223T035834Z
UID:10000019-1703581200-1703588400@cpasc.com.ar
SUMMARY:Conferencia FACA - Analisis del DNU 70/2023 en Materia Laboral
DESCRIPTION:
URL:https://cpasc.com.ar/evento/conferencia-faca-analisis-del-dnu-70-2023-en-materia-laboral/
ATTACH;FMTTYPE=image/jpeg:https://cpasc.com.ar/wp-content/uploads/2023/12/6585b090029c0.jpeg
END:VEVENT
BEGIN:VEVENT
DTSTART;TZID=America/Argentina/Buenos_Aires:20231117T140000
DTEND;TZID=America/Argentina/Buenos_Aires:20231117T160000
DTSTAMP:20260421T182808
CREATED:20231115T002412Z
LAST-MODIFIED:20231115T002412Z
UID:10000018-1700229600-1700236800@cpasc.com.ar
SUMMARY:Charla Actualizacion en Dcho. Laboral
DESCRIPTION:INSCRIPCIONES (cupo de 60 personas)\nEn el WhatsApp del Colegio de Abogados 3777-500482\n(Nombre y Apellido / DNI / E-mail).
URL:https://cpasc.com.ar/evento/charla-actualizacion-en-dcho-laboral/
ATTACH;FMTTYPE=image/png:https://cpasc.com.ar/wp-content/uploads/2023/11/charla-17-11.png
END:VEVENT
BEGIN:VEVENT
DTSTART;TZID=America/Argentina/Buenos_Aires:20230928T120000
DTEND;TZID=America/Argentina/Buenos_Aires:20230928T140000
DTSTAMP:20260421T182808
CREATED:20230815T011456Z
LAST-MODIFIED:20230815T011456Z
UID:10000016-1695902400-1695909600@cpasc.com.ar
SUMMARY:Capacitación ~ Medida Cautelar en el Fuero Federal
DESCRIPTION:
URL:https://cpasc.com.ar/evento/capacitacion-medida-cautelar-en-el-fuero-federal/2023-09-28/
ATTACH;FMTTYPE=image/jpeg:https://cpasc.com.ar/wp-content/uploads/2023/08/p-medida-cautelar.jpg
END:VEVENT
BEGIN:VEVENT
DTSTART;TZID=America/Argentina/Buenos_Aires:20230921T120000
DTEND;TZID=America/Argentina/Buenos_Aires:20230921T140000
DTSTAMP:20260421T182808
CREATED:20230815T011456Z
LAST-MODIFIED:20230815T011456Z
UID:10000015-1695297600-1695304800@cpasc.com.ar
SUMMARY:Capacitación ~ Medida Cautelar en el Fuero Federal
DESCRIPTION:
URL:https://cpasc.com.ar/evento/capacitacion-medida-cautelar-en-el-fuero-federal/2023-09-21/
ATTACH;FMTTYPE=image/jpeg:https://cpasc.com.ar/wp-content/uploads/2023/08/p-medida-cautelar.jpg
END:VEVENT
BEGIN:VEVENT
DTSTART;TZID=America/Argentina/Buenos_Aires:20230914T120000
DTEND;TZID=America/Argentina/Buenos_Aires:20230914T140000
DTSTAMP:20260421T182808
CREATED:20230815T011456Z
LAST-MODIFIED:20230815T011456Z
UID:10000014-1694692800-1694700000@cpasc.com.ar
SUMMARY:Capacitación ~ Medida Cautelar en el Fuero Federal
DESCRIPTION:
URL:https://cpasc.com.ar/evento/capacitacion-medida-cautelar-en-el-fuero-federal/2023-09-14/
ATTACH;FMTTYPE=image/jpeg:https://cpasc.com.ar/wp-content/uploads/2023/08/p-medida-cautelar.jpg
END:VEVENT
BEGIN:VEVENT
DTSTART;TZID=America/Argentina/Buenos_Aires:20230907T120000
DTEND;TZID=America/Argentina/Buenos_Aires:20230907T140000
DTSTAMP:20260421T182808
CREATED:20230815T011837Z
LAST-MODIFIED:20230815T011837Z
UID:10000013-1694088000-1694095200@cpasc.com.ar
SUMMARY:Capacitación ~ Medidas Cautelares en el Fuero Federal
DESCRIPTION:
URL:https://cpasc.com.ar/evento/capacitacion-medida-cautelar-en-el-fuero-federal-2/
ATTACH;FMTTYPE=image/jpeg:https://cpasc.com.ar/wp-content/uploads/2023/08/p-medida-cautelar.jpg
END:VEVENT
BEGIN:VEVENT
DTSTART;TZID=America/Argentina/Buenos_Aires:20230815T020000
DTEND;TZID=America/Argentina/Buenos_Aires:20230815T110000
DTSTAMP:20260421T182808
CREATED:20230811T024817Z
LAST-MODIFIED:20230811T024817Z
UID:10000012-1692064800-1692097200@cpasc.com.ar
SUMMARY:DIPLOMATURA UNIVERSITARIA EN PRÁCTICA PROFESIONAL Y JUDICIAL
DESCRIPTION:Información sobre la inscripción y descuento correspondiente a la “Diplomatura Universitaria en Práctica Profesional y Judicial”\, organizada por la Facultad de Derecho y Ciencias Sociales y Políticas de la Universidad Nacional del Nordeste (U.N.N.E.). \n📜 _Certificada por la Facultad de Derecho y Ciencias Sociales y Políticas de la UNNE | Resolución: 379 C.D./2023. \n📅 *Inicia 15 de agosto de 2023*. \n📌 Modalidad virtual: 10 clases virtuales en vivo. Cursado sincrónico. El material quedará grabado y disponible en aula virtual para visualización y consulta asincrónica. \n💳 Actividad arancelada. ⚠*20% Descuento asociados y miembros del COLEGIO PÚBLICO DE ABOGADOS DE LA SEGUNDA CIRCUNSCRIPCIÓN JUDICIAL DE LA PROVINCIA DE CORRIENTES*\nImporte general: : ~$29.980 \n🔸*Importe a pagar con descuento: $23.984* \n►¿Cómo inscribirse aplicando el descuento? Para inscribirse a la diplomatura utilizando el código de descuento\, debe seguir los siguientes pasos: \n1.Ingresar al siguiente link: https://bit.ly/478ql5K \n2.Hacer clic en el botón _COMPRAR_ \n3.Hacer clic en la sección _AGREGAR CUPON DE DESCUENTO_ y aplicar cupón asignado para ver reflejado el descuento *CUPON*: DUPPYJ-CPASJPCTES \n4.Completar sus datos y continuar con la compra haciendo clic en el botón _COMPRAR_ \n🔍 *Más información e inscripción:* https://bit.ly/3O2Qb3q
URL:https://cpasc.com.ar/evento/diplomatura-universitaria-en-practica-profesional-y-judicial-2/
ATTACH;FMTTYPE=image/jpeg:https://cpasc.com.ar/wp-content/uploads/2023/08/original-62609E3D-5DB9-4AEB-BE12-3917B28C65DE.jpeg.jpeg
END:VEVENT
BEGIN:VEVENT
DTSTART;VALUE=DATE:20230705
DTEND;VALUE=DATE:20230707
DTSTAMP:20260421T182808
CREATED:20230519T053024Z
LAST-MODIFIED:20230704T183719Z
UID:10000006-1688580000-1688666399@cpasc.com.ar
SUMMARY:Finalización Capacitación: Análisis del Nuevo Código Procesal Administrativo
DESCRIPTION:La capacitación tiene como disertante al Dr. JORGE ERNESTO SCÓFANO (Secretario con Competencia Administrativa del Juzgado Civil y Comercial N° 1 de Goya) y consta del siguiente cronograma de clases (Jueves de 18:00 a 20:00 hs.) \n\nABRIL: los días 13 y 27\nMAYO: el día 11\nJUNIO: los días 1\, 15  y 29\nJULIO: el día 6.\n\nVer temario a ser desarrollado \nLa inscripción ES SIN COSTO y se realiza en la sede del Colegio de Abogados de Goya\, o bien comunicándose al teléfono celular 3777-500482. \n 
URL:https://cpasc.com.ar/evento/continuacion-capacitacion-analisis-del-nuevo-codigo-procesal-administrativo/
LOCATION:Sala del Tribunal de Juicio\, Ejercito Argentino 550\, Goya\, Corrientes\, 3450\, Argentina
CATEGORIES:Capacitación
ATTACH;FMTTYPE=image/jpeg:https://cpasc.com.ar/wp-content/uploads/2023/03/seminario-evento-.jpg
ORGANIZER;CN="Colegio de Abogados de la 2da. Circunscripci%C3%B3n Judicial":MAILTO:contacto@cpasc.com.ar
END:VEVENT
BEGIN:VEVENT
DTSTART;VALUE=DATE:20230622
DTEND;VALUE=DATE:20230625
DTSTAMP:20260421T182808
CREATED:20230612T193033Z
LAST-MODIFIED:20230612T193753Z
UID:10000011-1687456800-1687629599@cpasc.com.ar
SUMMARY:IV Congreso Nacional y I Congreso Regional del Noreste y Regional del Grupo de Estudios de Derecho Social (GEDS)
DESCRIPTION:– A realizarse los días 23 y 24 de Junio de 2023 en las ciudades de Corrientes y Resistencia- \nInscripciones dando clic en este link \nPrograma Congreso \nPautas para congreso \n 
URL:https://cpasc.com.ar/evento/iv-congreso-nacional-y-i-congreso-regional-del-noreste-y-regional-del-grupo-de-estudios-de-derecho-social-geds/
ATTACH;FMTTYPE=image/jpeg:https://cpasc.com.ar/wp-content/uploads/2023/06/Publicidad-del-IV-Congreso-GEDS.jpeg
END:VEVENT
BEGIN:VEVENT
DTSTART;TZID=America/Argentina/Buenos_Aires:20230606T083000
DTEND;TZID=America/Argentina/Buenos_Aires:20230606T160000
DTSTAMP:20260421T182808
CREATED:20230603T055406Z
LAST-MODIFIED:20230603T055537Z
UID:10000010-1686040200-1686067200@cpasc.com.ar
SUMMARY:Jornada Internacional "EFECTIVIZACIÓN DE LOS DERECHOS DE LA INFANCIA EN EL ÁMBITO INTERNACIONAL"
DESCRIPTION:Modalidad presencial y virtual – actividad NO arancelada con inscripción previa.\nEl evento es organizado por el Colegio de Abogados de San Isidro junto con la Comisión de los Derechos de la Niñez y las Familias de la Federación Argentina de Colegios de Abogados (F.A.C.A.).
URL:https://cpasc.com.ar/evento/jornada-internacional-efectivizacion-de-los-derechos-de-la-infancia-en-el-ambito-internacional/
ATTACH;FMTTYPE=image/jpeg:https://cpasc.com.ar/wp-content/uploads/2023/06/Publicidad-Jornada-Internacional-06-06-2023.jpg
END:VEVENT
BEGIN:VEVENT
DTSTART;TZID=America/Argentina/Buenos_Aires:20230516T123000
DTEND;TZID=America/Argentina/Buenos_Aires:20230516T140000
DTSTAMP:20260421T182808
CREATED:20230501T213351Z
LAST-MODIFIED:20230501T213351Z
UID:10000004-1684240200-1684245600@cpasc.com.ar
SUMMARY:Seminario de Derecho del Trabajo y la Seguridad Social
DESCRIPTION:Abierta la inscripción\nSeminario de Derecho del Trabajo que agrupa a 42 colegios y consejos de la abogacía del país a través de la FACA \nDerecho individual – Riesgos del trabajo – Derecho colectivo – Derecho procesal – Derecho previsional \nCuerpo docente de excelencia. \nDirección: Dr. Juan Formaro\nActividad no arancelada con inscripción previa\nCon aval universitario (Facultad de Derecho – Universidad Nacional de Mar del Plata) \nDías y horario de cursada: martes de 18.30 a 20 hs. \n Inscripción a través del siguiente link: https://www.casi.com.ar/DTRABAJO2023
URL:https://cpasc.com.ar/evento/seminario-de-derecho-del-trabajo-y-la-seguridad-social/
CATEGORIES:Seminario
ATTACH;FMTTYPE=image/png:https://cpasc.com.ar/wp-content/uploads/2023/05/seminario-colegio-1.png
END:VEVENT
END:VCALENDAR