BEGIN:VCALENDAR
VERSION:2.0
PRODID:-//Colegio de abogados - ECPv6.8.2.1//NONSGML v1.0//EN
CALSCALE:GREGORIAN
METHOD:PUBLISH
X-WR-CALNAME:Colegio de abogados
X-ORIGINAL-URL:https://cpasc.com.ar
X-WR-CALDESC:Eventos para Colegio de abogados
REFRESH-INTERVAL;VALUE=DURATION:PT1H
X-Robots-Tag:noindex
X-PUBLISHED-TTL:PT1H
BEGIN:VTIMEZONE
TZID:America/Argentina/Buenos_Aires
BEGIN:STANDARD
TZOFFSETFROM:-0300
TZOFFSETTO:-0300
TZNAME:-03
DTSTART:20260101T000000
END:STANDARD
END:VTIMEZONE
BEGIN:VEVENT
DTSTART;TZID=America/Argentina/Buenos_Aires:20260302T113000
DTEND;TZID=America/Argentina/Buenos_Aires:20260302T123000
DTSTAMP:20260423T075847
CREATED:20260301T210317Z
LAST-MODIFIED:20260301T210411Z
UID:10000044-1772451000-1772454600@cpasc.com.ar
SUMMARY:Capacitación Virtual - Incorporación de Prueba Digital
DESCRIPTION:Se invita a los Colegiados:\nEl día lunes 02/03/2026 se realizará a las 11\,30 hs una capacitación virtual sobre la “Incorporación de Prueba Digital en la Nube”\, la misma estará a cargo de Paola Volpatto. \nÚnase a la reunión de Zoom\nhttps://us04web.zoom.us/j/79100020481?pwd=lorcwj1zjmDdF64nqSQZWzrgNt434f.1 \nID de reunión: 791 0002 0481\nCódigo de acceso: 3Bdjzt
URL:https://cpasc.com.ar/evento/capacitacion-virtual-incorporacion-de-prueba-digital/
CATEGORIES:Capacitación
ATTACH;FMTTYPE=image/jpeg:https://cpasc.com.ar/wp-content/uploads/2026/03/unnamed.jpg
END:VEVENT
BEGIN:VEVENT
DTSTART;TZID=America/Argentina/Buenos_Aires:20260306T173000
DTEND;TZID=America/Argentina/Buenos_Aires:20260306T190000
DTSTAMP:20260423T075847
CREATED:20260305T181534Z
LAST-MODIFIED:20260305T181547Z
UID:10000045-1772818200-1772823600@cpasc.com.ar
SUMMARY:Jornada Proceso y Tecnología
DESCRIPTION:El día viernes 06/03/2026 se realizará a las 17\,30 hs una Jornada Homenaje al Dr. Jorge W. Peyrano sobre “Proceso y Tecnología”\, organizada por el CEP (Círculo de Estudios Procesales “Dr. Virgilio Acosta”). La modalidad es virtual y tiene un arancel de pesos cinco mil ($ 5.000).
URL:https://cpasc.com.ar/evento/jornada-proceso-y-tecnologia/
CATEGORIES:Jornada
ATTACH;FMTTYPE=image/jpeg:https://cpasc.com.ar/wp-content/uploads/2026/03/viernes06-03.jpg
END:VEVENT
BEGIN:VEVENT
DTSTART;TZID=America/Argentina/Buenos_Aires:20260317T190000
DTEND;TZID=America/Argentina/Buenos_Aires:20260317T210000
DTSTAMP:20260423T075847
CREATED:20260317T123659Z
LAST-MODIFIED:20260317T124333Z
UID:10000046-1773774000-1773781200@cpasc.com.ar
SUMMARY:DIPLOMATURA UNIVERSITARIA EN  PRÁCTICA PROFESIONAL Y JUDICIAL
DESCRIPTION:Cohorte 2026 \n Aprendé a redactar escritos reales y a desenvolverte en la práctica judicial \nIncluye formación en:\n Demandas y contestaciones\n Prueba\n Recursos\n Medidas cautelares\n Familia y violencia\n Inteligencia Artificial aplicada al Derecho \n Certificación universitaria (UNNE)\n Incluye 2 libros digitales bonificados \n Inicio: 17 de marzo de 2026\n Modalidad virtual\n Martes y jueves de 19 a 21 hs\n Programa completo: https://bit.ly/4agm0jv \n Cupos limitados\n $164.000 + 3 cuotas sin interés\n 30% OFF para integrantes del Colegio de Abogados de la \nSegunda Circunscripción Judicial de Corrientes\n• Cupón de descuento: DUPPYJ26-CAIICCJTES \n Info e inscripción:\n https://bit.ly/3MmcALa
URL:https://cpasc.com.ar/evento/diplomatura-universitaria-en-practica-profesional-y-judicial-3/
CATEGORIES:Diplomatura
ATTACH;FMTTYPE=image/jpeg:https://cpasc.com.ar/wp-content/uploads/2026/03/Diplomatura-2026.jpg
END:VEVENT
BEGIN:VEVENT
DTSTART;TZID=America/Argentina/Buenos_Aires:20260409T080000
DTEND;TZID=America/Argentina/Buenos_Aires:20260409T170000
DTSTAMP:20260423T075847
CREATED:20260330T191724Z
LAST-MODIFIED:20260406T132158Z
UID:10000047-1775721600-1775754000@cpasc.com.ar
SUMMARY:IMPACTO DE LA LEY DE MODERNIZACIÓN LABORAL EN EL DERECHO DEL TRABAJO
DESCRIPTION:Ciclo de Conversatorios \n Director: Dr. Augusto Arduino \n Docentes: Dr. Carlos A. D. Grillo – Dr. César A. Vallejos Tressens \n Cronograma de clases:\n* Clase 1: Jueves 09 de abril\n* Clase 2: Jueves 16 de abril\n* Clase 3: Jueves 23 de abril\n* Clase 4: Jueves 30 de abril \n Horario: 18 h\n Modalidad: Virtual (Plataforma Fundación Formarte)\n Actividad gratuita\n Se entregarán certificados de asistencia \n Inscripción: https://forms.gle/KrVc9Nimh9TFMhst5
URL:https://cpasc.com.ar/evento/impacto-de-la-ley-de-modernizacion-laboral-en-el-derecho-del-trabajo/2026-04-09/
CATEGORIES:Conversatorios
ATTACH;FMTTYPE=image/jpeg:https://cpasc.com.ar/wp-content/uploads/2026/03/charla.jpg
END:VEVENT
BEGIN:VEVENT
DTSTART;TZID=America/Argentina/Buenos_Aires:20260409T180000
DTEND;TZID=America/Argentina/Buenos_Aires:20260409T203000
DTSTAMP:20260423T075847
CREATED:20260406T132630Z
LAST-MODIFIED:20260406T133954Z
UID:10000048-1775757600-1775766600@cpasc.com.ar
SUMMARY:Ciclo de Actualización en Derecho del Trabajo
DESCRIPTION:Jueves 9 y 16/04/2026 – 18 hs – VIRTUAL\nLa Institución adhiere e invita a los colegiados a la propuesta académica “Ciclo de Actualización en Derecho del Trabajo” que nos participara el Colegio Público de Abogados de la Tercera Circunscripción Judicial de la Pcia. de Ctes.
URL:https://cpasc.com.ar/evento/ciclo-de-actualizacion-en-derecho-del-trabajo-2/2026-04-09/
CATEGORIES:Capacitación
ATTACH;FMTTYPE=image/jpeg:https://cpasc.com.ar/wp-content/uploads/2026/04/derecho_trabajo.jpg
END:VEVENT
BEGIN:VEVENT
DTSTART;TZID=America/Argentina/Buenos_Aires:20260416T080000
DTEND;TZID=America/Argentina/Buenos_Aires:20260416T170000
DTSTAMP:20260423T075847
CREATED:20260330T191724Z
LAST-MODIFIED:20260406T132158Z
UID:10000049-1776326400-1776358800@cpasc.com.ar
SUMMARY:IMPACTO DE LA LEY DE MODERNIZACIÓN LABORAL EN EL DERECHO DEL TRABAJO
DESCRIPTION:Ciclo de Conversatorios \n Director: Dr. Augusto Arduino \n Docentes: Dr. Carlos A. D. Grillo – Dr. César A. Vallejos Tressens \n Cronograma de clases:\n* Clase 1: Jueves 09 de abril\n* Clase 2: Jueves 16 de abril\n* Clase 3: Jueves 23 de abril\n* Clase 4: Jueves 30 de abril \n Horario: 18 h\n Modalidad: Virtual (Plataforma Fundación Formarte)\n Actividad gratuita\n Se entregarán certificados de asistencia \n Inscripción: https://forms.gle/KrVc9Nimh9TFMhst5
URL:https://cpasc.com.ar/evento/impacto-de-la-ley-de-modernizacion-laboral-en-el-derecho-del-trabajo/2026-04-16/
CATEGORIES:Conversatorios
ATTACH;FMTTYPE=image/jpeg:https://cpasc.com.ar/wp-content/uploads/2026/03/charla.jpg
END:VEVENT
BEGIN:VEVENT
DTSTART;TZID=America/Argentina/Buenos_Aires:20260416T180000
DTEND;TZID=America/Argentina/Buenos_Aires:20260416T203000
DTSTAMP:20260423T075847
CREATED:20260406T132630Z
LAST-MODIFIED:20260406T133954Z
UID:10000062-1776362400-1776371400@cpasc.com.ar
SUMMARY:Ciclo de Actualización en Derecho del Trabajo
DESCRIPTION:Jueves 9 y 16/04/2026 – 18 hs – VIRTUAL\nLa Institución adhiere e invita a los colegiados a la propuesta académica “Ciclo de Actualización en Derecho del Trabajo” que nos participara el Colegio Público de Abogados de la Tercera Circunscripción Judicial de la Pcia. de Ctes.
URL:https://cpasc.com.ar/evento/ciclo-de-actualizacion-en-derecho-del-trabajo-2/2026-04-16/
CATEGORIES:Capacitación
ATTACH;FMTTYPE=image/jpeg:https://cpasc.com.ar/wp-content/uploads/2026/04/derecho_trabajo.jpg
END:VEVENT
BEGIN:VEVENT
DTSTART;TZID=America/Argentina/Buenos_Aires:20260423T080000
DTEND;TZID=America/Argentina/Buenos_Aires:20260423T170000
DTSTAMP:20260423T075847
CREATED:20260330T191724Z
LAST-MODIFIED:20260406T132158Z
UID:10000050-1776931200-1776963600@cpasc.com.ar
SUMMARY:IMPACTO DE LA LEY DE MODERNIZACIÓN LABORAL EN EL DERECHO DEL TRABAJO
DESCRIPTION:Ciclo de Conversatorios \n Director: Dr. Augusto Arduino \n Docentes: Dr. Carlos A. D. Grillo – Dr. César A. Vallejos Tressens \n Cronograma de clases:\n* Clase 1: Jueves 09 de abril\n* Clase 2: Jueves 16 de abril\n* Clase 3: Jueves 23 de abril\n* Clase 4: Jueves 30 de abril \n Horario: 18 h\n Modalidad: Virtual (Plataforma Fundación Formarte)\n Actividad gratuita\n Se entregarán certificados de asistencia \n Inscripción: https://forms.gle/KrVc9Nimh9TFMhst5
URL:https://cpasc.com.ar/evento/impacto-de-la-ley-de-modernizacion-laboral-en-el-derecho-del-trabajo/2026-04-23/
CATEGORIES:Conversatorios
ATTACH;FMTTYPE=image/jpeg:https://cpasc.com.ar/wp-content/uploads/2026/03/charla.jpg
END:VEVENT
BEGIN:VEVENT
DTSTART;TZID=America/Argentina/Buenos_Aires:20260430T080000
DTEND;TZID=America/Argentina/Buenos_Aires:20260430T170000
DTSTAMP:20260423T075847
CREATED:20260330T191724Z
LAST-MODIFIED:20260406T132158Z
UID:10000051-1777536000-1777568400@cpasc.com.ar
SUMMARY:IMPACTO DE LA LEY DE MODERNIZACIÓN LABORAL EN EL DERECHO DEL TRABAJO
DESCRIPTION:Ciclo de Conversatorios \n Director: Dr. Augusto Arduino \n Docentes: Dr. Carlos A. D. Grillo – Dr. César A. Vallejos Tressens \n Cronograma de clases:\n* Clase 1: Jueves 09 de abril\n* Clase 2: Jueves 16 de abril\n* Clase 3: Jueves 23 de abril\n* Clase 4: Jueves 30 de abril \n Horario: 18 h\n Modalidad: Virtual (Plataforma Fundación Formarte)\n Actividad gratuita\n Se entregarán certificados de asistencia \n Inscripción: https://forms.gle/KrVc9Nimh9TFMhst5
URL:https://cpasc.com.ar/evento/impacto-de-la-ley-de-modernizacion-laboral-en-el-derecho-del-trabajo/2026-04-30/
CATEGORIES:Conversatorios
ATTACH;FMTTYPE=image/jpeg:https://cpasc.com.ar/wp-content/uploads/2026/03/charla.jpg
END:VEVENT
END:VCALENDAR